BEGIN:VCALENDAR
VERSION:2.0
PRODID:-//İstanbul Latin Katolik Kilisesi Episkoposluğu - ECPv6.1.2.2//NONSGML v1.0//EN
CALSCALE:GREGORIAN
METHOD:PUBLISH
X-ORIGINAL-URL:https://latinkatolikkilisesiistanbul.com
X-WR-CALDESC:İstanbul Latin Katolik Kilisesi Episkoposluğu için etkinlikler
REFRESH-INTERVAL;VALUE=DURATION:PT1H
X-Robots-Tag:noindex
X-PUBLISHED-TTL:PT1H
BEGIN:VTIMEZONE
TZID:Europe/Moscow
BEGIN:STANDARD
TZOFFSETFROM:+0300
TZOFFSETTO:+0300
TZNAME:MSK
DTSTART:20240101T000000
END:STANDARD
END:VTIMEZONE
BEGIN:VEVENT
DTSTART;TZID=Europe/Moscow:20240223T080000
DTEND;TZID=Europe/Moscow:20240223T170000
DTSTAMP:20260422T103243
CREATED:20240223T143859Z
LAST-MODIFIED:20240223T144122Z
UID:24073-1708675200-1708707600@latinkatolikkilisesiistanbul.com
SUMMARY:HRİSTİYAN BİRLİK HAFTASI 2024
DESCRIPTION:17 Ocak 2024 yazar Şule Rogenbuke        \nHristiyan birliği için dua haftası 20 Ocak Cumartesi gününden 27 Ocak Cumartesi gününe kadar İstanbul’daki farklı kiliselerde gerçekleşti. \n2024 yılının teması “Tanrın Rab’bi sev…. Komşunu kendin gibi sev” (Luka 10:27). \nİstanbul’un farklı Hristiyan kiliselerinde birlikte dua edebildiğimiz için Tanrı’ya şükrediyoruz. \n\nGün RUM ORTODOKS KILISESİ\n\n \n\nGün DUTCH CHAPEL (UNION CHURCH)\n\n \n\nGün KIPTI ORTODOKS KILISESi\n\n \n\nGün ALMAN PROTESTAN\n\n \n\nGün KATOLIK KILISESI Büyükdere Meryem Ana’nin Dogusu Latin Kilisesi\n\n \n\nGün SÜRYANI ORTODOKS KILiSESi\n\n \n\nGün TEK Aynahçesme Ermeni Protestan Kilisesi (Pera Dirilis)\n\n \n\nGün ERMENİ KİLİSESİ Surp Vartanants Ermeni Kilisesi
URL:https://latinkatolikkilisesiistanbul.com/event/hristiyan-birlik-haftasi-2024/
CATEGORIES:Etkinlik
ATTACH;FMTTYPE=image/jpeg:https://latinkatolikkilisesiistanbul.com/wp-content/uploads/2024/02/g.jpg
END:VEVENT
END:VCALENDAR